BEGIN:VCALENDAR
VERSION:2.0
PRODID:-//jEvents 2.0 for Joomla//EN
CALSCALE:GREGORIAN
METHOD:PUBLISH
BEGIN:VEVENT
UID:284c4dfd4217331dea7af6f0d928717c
CATEGORIES:Verein
CREATED:20240710T141901
SUMMARY:Fototermin
LOCATION:Kurpark
DESCRIPTION:
DTSTAMP:20260425T225642
DTSTART:20240711T160000
DTEND:20240711T180000
SEQUENCE:0
TRANSP:OPAQUE
END:VEVENT
END:VCALENDAR