BEGIN:VCALENDAR
VERSION:2.0
PRODID:-//jEvents 2.0 for Joomla//EN
CALSCALE:GREGORIAN
METHOD:PUBLISH
BEGIN:VEVENT
UID:87a4cdeb610bc30ce0c7fed8cecd1994
CATEGORIES:Verein
CREATED:20240703T160538
SUMMARY:Wallfahrt nach Maria Kunterweg
LOCATION:Trachtenhütte
DESCRIPTION:Wallfahrt zum 125 Jährigen\nAbmarsch 7:00 Uhr am Pfarrheim St. Nikolaus\n
X-ALT-DESC;FMTTYPE=text/html:<p>Wallfahrt zum 125 Jährigen</p><p>Abmarsch 7:00 Uhr am Pfarrheim St. Niko
 laus</p>
DTSTAMP:20260426T040305
DTSTART:20241005T050000
DTEND:20241005T093000
SEQUENCE:0
TRANSP:OPAQUE
END:VEVENT
END:VCALENDAR