BEGIN:VCALENDAR
VERSION:2.0
PRODID:-//jEvents 2.0 for Joomla//EN
CALSCALE:GREGORIAN
METHOD:PUBLISH
BEGIN:VEVENT
UID:8ee535710cbc6b703933d434f5fdcdd6
CATEGORIES:Verein
CREATED:20231003T075015
SUMMARY:Auftritt Stadtfest
DESCRIPTION:
X-EXTRAINFO:Rathausplatz
DTSTAMP:20260425T230456
DTSTART;VALUE=DATE:20240706
DTEND;VALUE=DATE:20240707
SEQUENCE:0
TRANSP:OPAQUE
END:VEVENT
END:VCALENDAR