BEGIN:VCALENDAR
VERSION:2.0
PRODID:-//jEvents 2.0 for Joomla//EN
CALSCALE:GREGORIAN
METHOD:PUBLISH
BEGIN:VEVENT
UID:7bf6b2f2bc0363bf7d8b3c7aae54bb26
CATEGORIES:Verein
CREATED:20231003T074646
SUMMARY:Sommerfest
DESCRIPTION:
DTSTAMP:20260425T205902
DTSTART:20240718T133000
DTEND:20240718T170000
SEQUENCE:0
TRANSP:OPAQUE
END:VEVENT
END:VCALENDAR