BEGIN:VCALENDAR
VERSION:2.0
PRODID:-//jEvents 2.0 for Joomla//EN
CALSCALE:GREGORIAN
METHOD:PUBLISH
BEGIN:VEVENT
UID:1c2eec70633fd12ed93cfc46223bf806
CATEGORIES:Verein
CREATED:20260106T104254
SUMMARY:Hüttenstöbern
DESCRIPTION:
DTSTAMP:20260420T115705
DTSTART;VALUE=DATE:20260321
DTEND;VALUE=DATE:20260322
SEQUENCE:0
TRANSP:OPAQUE
END:VEVENT
END:VCALENDAR