BEGIN:VCALENDAR
VERSION:2.0
PRODID:-//jEvents 2.0 for Joomla//EN
CALSCALE:GREGORIAN
METHOD:PUBLISH
BEGIN:VEVENT
UID:de2d160409d8fb94e786c6439604c2a9
CATEGORIES:Jugendgruppe
CREATED:20241112T110513
SUMMARY:Kulturmarathon - Brauchtum im Bräu mit den Saalachthalern
DESCRIPTION:
DTSTAMP:20260425T114245
DTSTART:20241115T192400
DTEND:20241115T202400
SEQUENCE:0
TRANSP:OPAQUE
END:VEVENT
END:VCALENDAR