BEGIN:VCALENDAR
VERSION:2.0
PRODID:-//jEvents 2.0 for Joomla//EN
CALSCALE:GREGORIAN
METHOD:PUBLISH
BEGIN:VEVENT
UID:2f77b43022ec6d97a123a70227990d81
CATEGORIES:Verein
CREATED:20240928T111631
SUMMARY:Maibaumaufstellen Seniorenheim Kirchberg
DESCRIPTION:
DTSTAMP:20260425T225102
DTSTART:20240928T070000
SEQUENCE:0
TRANSP:OPAQUE
END:VEVENT
END:VCALENDAR