BEGIN:VCALENDAR
VERSION:2.0
PRODID:-//jEvents 2.0 for Joomla//EN
CALSCALE:GREGORIAN
METHOD:PUBLISH
BEGIN:VEVENT
UID:d5b985c716af631c8aa8ba060e26134c
CATEGORIES:Jugendgruppe
CREATED:20240928T103830
SUMMARY:Ausflug in den Wildtier- und Kletterpark Oberreith
DESCRIPTION:
DTSTAMP:20260425T175843
DTSTART;VALUE=DATE:20241019
DTEND;VALUE=DATE:20241020
SEQUENCE:0
TRANSP:OPAQUE
END:VEVENT
END:VCALENDAR